{"text_format":"1","workbook":"xlsx","n_sheets":5,"sheets":["Templ","Data","Вид 1","Вид 2","Protocol"],"not_rendered":{"charts":0,"images":3,"macros":1,"external_links":1,"defined_names":0,"comments":3,"pivot_tables":0},"unopened":[],"bounds":{"document_bytes":16777216,"sheet_cells":100000,"rows_first":2000,"rows_last":500,"rows_between":2000,"halvings":0,"cell_chars":16384,"cell_head_chars":4096},"cells_cut":0,"cells_raw":0,"read":"whole","date_system":"1900"}

{"sheet":"Templ","index":0,"n_rows":32,"n_cols":28,"rows_kept":32,"cut":false,"hidden":false,"merged":[[5,26,6,26],[5,27,6,27],[19,16,22,16],[3,1,3,6],[14,3,14,6],[5,15,6,15],[5,16,6,16],[3,8,3,12],[3,13,3,16]]}
[1]
[]
[]
[null,"Список участников соревнований",null,null,null,null,null,null,"Название соревнований"]
[null,"№","Гимнастка","Год","Разряд","Город","Тренер",null,null,1,2,3,4,"Оценка","Сбавка","Сумма","МЕСТО",null,null,1,2,3,4,5,"Оценка","Сбавка","Сумма","МЕСТО"]
[null,1,null,null,null,null,null,null,"D",null,null,null,null,{"$f":"(SUM(J6:M6)-(MIN(J6:M6)+MAX(J6:M6)))/2","v":0},null,{"$f":"SUM(N6:N7)-SUM(O6:O7)","v":0},null,null,"D",null,null,null,null,null,{"$f":"(SUM(T6:W6)-(MIN(T6:W6)+MAX(T6:W6)))/2","v":0},null,{"$f":"SUM(Y6:Y7)-SUM(Z6:Z7)","v":0}]
[null,{"$f":"B6+1","v":2},null,null,null,null,null,null,"E",null,null,null,null,{"$f":"(SUM(J7:M7)-(MIN(J7:M7)+MAX(J7:M7)))/2","v":0},null,null,null,null,"E",null,null,null,null,null,{"$f":"(SUM(T7:X7)-(MIN(T7:X7)+MAX(T7:X7)))/3","v":0}]
[]
[]
[]
[]
[]
[]
[]
[null,null,"Сводный протокол"]
[]
[]
[]
[null,"№","Команда/Гимнастка","г.р.","Разряд","Город","Тренер",null,null,1,2,3,4,"Оценка","Сбавка","Сумма","МЕСТО"]
[null,1,null,null,null,null,null,null,"D1",null,null,null,null,{"$f":"(SUM(J20:M20)-(MIN(J20:M20)+MAX(J20:M20)))/2","v":0},null,{"$f":"SUM(N20:N23)-SUM(O20:O23)","v":0}]
[null,null,null,null,null,null,null,null,"D2",null,null,null,null,0]
[null,null,null,null,null,null,null,null,"A",null,null,null,null,{"$f":"(SUM(J22:M22)-(MIN(J22:M22)+MAX(J22:M22)))/2","v":0}]
[null,null,null,null,null,null,null,null,"E",null,null,null,null,{"$f":"(SUM(J23:M23)-(MIN(J23:M23)+MAX(J23:M23)))/2","v":0}]
[]
[]
[]
[]
[]
[]
[null,null,"Главный судья"]
[]
[null,null,"Главный секретарь"]

{"sheet":"Data","index":1,"n_rows":31,"n_cols":13,"rows_kept":31,"cut":false,"hidden":false,"merged":[[7,1,7,6]]}
[]
[null,null,"Вид соревнований","Групповые"]
[null,null,"Число участников в группе",6]
[null,null,"Число групп",4]
[null,null,"Количество видов:",2]
[null,null,"Вид оценки:",5]
[]
[null,"Список участников соревнований",null,null,null,null,null,null,"Жеребьевка"]
[null,"№","Команда/Гимнастка","г.р.","Разряд","Город","Тренер",null,"№","Команда/Гимнастка","г.р.","Разряд","Город"]
[null,1,"Иваново \"Жар-Птица\"",null,null,null,null,null,{"$f":"$B$24","v":3},{"$f":"$C$24","v":"Иваново \"Игрушки\""},{"$f":"$D$24","v":0},{"$f":"$E$24","v":0},{"$f":"$F$24","v":0}]
[null,null,"Мокеева Влада",2002,2,"Иваново","Харитонова А.",null,{"$f":"$B$17","v":2},{"$f":"$C$17","v":"Самара \"Малинки\""},{"$f":"$D$17","v":0},{"$f":"$E$17","v":0},{"$f":"$F$17","v":0}]
[null,null,"Шнабель Анна",2002,2,null,"Шнабель О.",null,{"$f":"$B$10","v":1},{"$f":"$C$10","v":"Иваново \"Жар-Птица\""},{"$f":"$D$10","v":0},{"$f":"$E$10","v":0},{"$f":"$F$10","v":0}]
[null,null,"Якупова Диана",2001,2,null,null,null,{"$f":"$B$31","v":4},{"$f":"$C$31","v":0},{"$f":"$D$31","v":0},{"$f":"$E$31","v":0},{"$f":"$F$31","v":0}]
[null,null,"Чернышова Настя",2002,2]
[null,null,"Рыбакова Алина",2001,2]
[null,null,"Евтихова Вика",2003,2]
[null,{"$f":"B10 + 1","v":2},"Самара \"Малинки\""]
[null,null,"Пелевина Саша",2002,2,"Самара"]
[null,null,"Зубарева Татьяна",2002,2]
[null,null,"Кожевникова Варя",2002,2]
[null,null,"Абрамова Анна",2002,2]
[null,null,"Лупарева Алина",2002,2]
[]
[null,{"$f":"B17 + 1","v":3},"Иваново \"Игрушки\""]
[null,null,"Куранова Яна",2001,"КМС","Иваново","Соколова Е."]
[null,null,"Закирова Сабина",2001,"КМС",null,"Шадрина М."]
[null,null,"Смирнова Ангелина",2001,"КМС"]
[null,null,"Коротаева Варя",2001,"КМС"]
[null,null,"Моисеева Ольга",2000,1]
[null,null,"Куликова Ксения",2000,"КМС"]
[null,{"$f":"B24 + 1","v":4}]

{"sheet":"Вид 1","index":2,"n_rows":17,"n_cols":13,"rows_kept":17,"cut":false,"hidden":false,"merged":[[15,1,16,1],[15,2,16,2],[9,11,10,11],[9,12,10,12],[11,11,12,11],[11,12,12,12],[13,11,14,11],[13,12,14,12],[15,11,16,11],[15,12,16,12],[9,1,10,1],[9,2,10,2],[11,1,12,1],[11,2,12,2],[13,1,14,1],[13,2,14,2]]}
[null,null,null,2,9,13]
[]
[]
[]
[]
[]
[]
[]
[null,"№","Команда/Гимнастка",null,1,2,3,4,5,"Оценка","Сбавка","Сумма","МЕСТО"]
[null,{"$f":"Data!$B$24","v":3},{"$f":"Data!$C$24","v":"Иваново \"Игрушки\""},"D",null,null,null,null,null,{"$f":"(SUM(E10:H10)-(MIN(E10:H10)+MAX(E10:H10)))/2","v":0},null,14.1,{"$f":"RANK(L10,$L$10:$L$17,0)","v":2}]
[null,null,null,"E",null,null,null,null,null,{"$f":"(SUM(E11:I11)-(MIN(E11:I11)+MAX(E11:I11)))/3","v":0}]
[null,{"$f":"Data!$B$17","v":2},{"$f":"Data!$C$17","v":"Самара \"Малинки\""},"D",null,null,null,null,null,{"$f":"(SUM(E12:H12)-(MIN(E12:H12)+MAX(E12:H12)))/2","v":0},null,13.45,{"$f":"RANK(L12,$L$10:$L$17,0)","v":3}]
[null,null,null,"E",null,null,null,null,null,{"$f":"(SUM(E13:I13)-(MIN(E13:I13)+MAX(E13:I13)))/3","v":0}]
[null,{"$f":"Data!$B$10","v":1},{"$f":"Data!$C$10","v":"Иваново \"Жар-Птица\""},"D",null,null,null,null,null,{"$f":"(SUM(E14:H14)-(MIN(E14:H14)+MAX(E14:H14)))/2","v":0},null,14.15,{"$f":"RANK(L14,$L$10:$L$17,0)","v":1}]
[null,null,null,"E",null,null,null,null,null,{"$f":"(SUM(E15:I15)-(MIN(E15:I15)+MAX(E15:I15)))/3","v":0}]
[null,{"$f":"Data!$B$31","v":4},{"$f":"Data!$C$31","v":0},"D",null,null,null,null,null,{"$f":"(SUM(E16:H16)-(MIN(E16:H16)+MAX(E16:H16)))/2","v":0},null,{"$f":"SUM(J16:J17)-SUM(K16:K17)","v":0},{"$f":"RANK(L16,$L$10:$L$17,0)","v":4}]
[null,null,null,"E",null,null,null,null,null,{"$f":"(SUM(E17:I17)-(MIN(E17:I17)+MAX(E17:I17)))/3","v":0}]

{"sheet":"Вид 2","index":3,"n_rows":17,"n_cols":13,"rows_kept":17,"cut":false,"hidden":false,"merged":[[15,1,16,1],[15,2,16,2],[9,11,10,11],[9,12,10,12],[11,11,12,11],[11,12,12,12],[13,11,14,11],[13,12,14,12],[15,11,16,11],[15,12,16,12],[9,1,10,1],[9,2,10,2],[11,1,12,1],[11,2,12,2],[13,1,14,1],[13,2,14,2]]}
[null,null,null,2,9,13]
[]
[]
[]
[]
[]
[]
[]
[null,"№","Команда/Гимнастка",null,1,2,3,4,5,"Оценка","Сбавка","Сумма","МЕСТО"]
[null,{"$f":"Data!$B$24","v":3},{"$f":"Data!$C$24","v":"Иваново \"Игрушки\""},"D",null,null,null,null,null,{"$f":"(SUM(E10:H10)-(MIN(E10:H10)+MAX(E10:H10)))/2","v":0},null,13.35,{"$f":"RANK(L10,$L$10:$L$17,0)","v":1}]
[null,null,null,"E",null,null,null,null,null,{"$f":"(SUM(E11:I11)-(MIN(E11:I11)+MAX(E11:I11)))/3","v":0}]
[null,{"$f":"Data!$B$17","v":2},{"$f":"Data!$C$17","v":"Самара \"Малинки\""},"D",null,null,null,null,null,{"$f":"(SUM(E12:H12)-(MIN(E12:H12)+MAX(E12:H12)))/2","v":0},null,12.8,{"$f":"RANK(L12,$L$10:$L$17,0)","v":3}]
[null,null,null,"E",null,null,null,null,null,{"$f":"(SUM(E13:I13)-(MIN(E13:I13)+MAX(E13:I13)))/3","v":0}]
[null,{"$f":"Data!$B$10","v":1},{"$f":"Data!$C$10","v":"Иваново \"Жар-Птица\""},"D",null,null,null,null,null,{"$f":"(SUM(E14:H14)-(MIN(E14:H14)+MAX(E14:H14)))/2","v":0},null,13.016999999999999,{"$f":"RANK(L14,$L$10:$L$17,0)","v":2}]
[null,null,null,"E",null,null,null,null,null,{"$f":"(SUM(E15:I15)-(MIN(E15:I15)+MAX(E15:I15)))/3","v":0}]
[null,{"$f":"Data!$B$31","v":4},{"$f":"Data!$C$31","v":0},"D",null,null,null,null,null,{"$f":"(SUM(E16:H16)-(MIN(E16:H16)+MAX(E16:H16)))/2","v":0},null,{"$f":"SUM(J16:J17)-SUM(K16:K17)","v":0},{"$f":"RANK(L16,$L$10:$L$17,0)","v":4}]
[null,null,null,"E",null,null,null,null,null,{"$f":"(SUM(E17:I17)-(MIN(E17:I17)+MAX(E17:I17)))/3","v":0}]

{"sheet":"Protocol","index":4,"n_rows":84,"n_cols":10,"rows_kept":84,"cut":false,"hidden":false,"merged":[[83,4,83,9],[6,3,6,5],[0,1,3,8],[38,1,41,8],[29,4,29,10],[31,4,31,9],[81,4,81,10]]}
[null,"International individual/national groups Rhythmic Gymnastic  Tournament\n«MARINA CUP»  April 17-21nd 2014\n"]
[]
[]
[]
[]
[]
[null,null,null,"1разряд"]
[null,"№","Команда/Гимнастка","г.р.","Город","Тренер","Вид 1","Вид 2","Сумма","Место"]
[null,1,{"$f":"Data!$C$24","v":"Иваново \"Игрушки\""},null,null,null,{"$f":"'Вид 1'!$L$10","v":14.1},{"$f":"'Вид 2'!$L$10","v":13.35},{"$f":"SUM(G9:H9)","v":27.45},{"$f":"RANK(I9,$I$9:$I$23,0)","v":1}]
[null,null,{"$f":"IF(ISBLANK(Data!$C$25), \"\",Data!$C$25)","v":"Куранова Яна"},{"$f":"IF(ISBLANK(Data!$D$25), \"\",Data!$D$25)","v":2001},{"$f":"IF(ISBLANK(Data!$F$25), \"\",Data!$F$25)","v":"Иваново"},{"$f":"IF(ISBLANK(Data!$G$25), \"\",Data!$G$25)","v":"Соколова Е."}]
[null,null,{"$f":"IF(ISBLANK(Data!$C$26), \"\",Data!$C$26)","v":"Закирова Сабина"},{"$f":"IF(ISBLANK(Data!$D$26), \"\",Data!$D$26)","v":2001},{"$f":"IF(ISBLANK(Data!$F$26), \"\",Data!$F$26)","v":""},{"$f":"IF(ISBLANK(Data!$G$26), \"\",Data!$G$26)","v":"Шадрина М."}]
[null,null,{"$f":"IF(ISBLANK(Data!$C$27), \"\",Data!$C$27)","v":"Смирнова Ангелина"},{"$f":"IF(ISBLANK(Data!$D$27), \"\",Data!$D$27)","v":2001},{"$f":"IF(ISBLANK(Data!$F$27), \"\",Data!$F$27)","v":""},{"$f":"IF(ISBLANK(Data!$G$27), \"\",Data!$G$27)","v":""}]
[null,null,{"$f":"IF(ISBLANK(Data!$C$28), \"\",Data!$C$28)","v":"Коротаева Варя"},{"$f":"IF(ISBLANK(Data!$D$28), \"\",Data!$D$28)","v":2001},{"$f":"IF(ISBLANK(Data!$F$28), \"\",Data!$F$28)","v":""},{"$f":"IF(ISBLANK(Data!$G$28), \"\",Data!$G$28)","v":""}]
[null,null,{"$f":"IF(ISBLANK(Data!$C$29), \"\",Data!$C$29)","v":"Моисеева Ольга"},{"$f":"IF(ISBLANK(Data!$D$29), \"\",Data!$D$29)","v":2000},{"$f":"IF(ISBLANK(Data!$F$29), \"\",Data!$F$29)","v":""},{"$f":"IF(ISBLANK(Data!$G$29), \"\",Data!$G$29)","v":""}]
[null,null,{"$f":"IF(ISBLANK(Data!$C$30), \"\",Data!$C$30)","v":"Куликова Ксения"},{"$f":"IF(ISBLANK(Data!$D$30), \"\",Data!$D$30)","v":2000},{"$f":"IF(ISBLANK(Data!$F$30), \"\",Data!$F$30)","v":""},{"$f":"IF(ISBLANK(Data!$G$30), \"\",Data!$G$30)","v":""}]
[null,2,{"$f":"Data!$C$10","v":"Иваново \"Жар-Птица\""},null,null,null,{"$f":"'Вид 1'!$L$14","v":14.15},{"$f":"'Вид 2'!$L$14","v":13.016999999999999},{"$f":"SUM(G16:H16)","v":27.167000000000002},{"$f":"RANK(I16,$I$9:$I$23,0)","v":2}]
[null,null,{"$f":"IF(ISBLANK(Data!$C$11), \"\",Data!$C$11)","v":"Мокеева Влада"},{"$f":"IF(ISBLANK(Data!$D$11), \"\",Data!$D$11)","v":2002},{"$f":"IF(ISBLANK(Data!$F$11), \"\",Data!$F$11)","v":"Иваново"},{"$f":"IF(ISBLANK(Data!$G$11), \"\",Data!$G$11)","v":"Харитонова А."}]
[null,null,{"$f":"IF(ISBLANK(Data!$C$12), \"\",Data!$C$12)","v":"Шнабель Анна"},{"$f":"IF(ISBLANK(Data!$D$12), \"\",Data!$D$12)","v":2002},{"$f":"IF(ISBLANK(Data!$F$12), \"\",Data!$F$12)","v":""},{"$f":"IF(ISBLANK(Data!$G$12), \"\",Data!$G$12)","v":"Шнабель О."}]
[null,null,{"$f":"IF(ISBLANK(Data!$C$13), \"\",Data!$C$13)","v":"Якупова Диана"},{"$f":"IF(ISBLANK(Data!$D$13), \"\",Data!$D$13)","v":2001},{"$f":"IF(ISBLANK(Data!$F$13), \"\",Data!$F$13)","v":""},{"$f":"IF(ISBLANK(Data!$G$13), \"\",Data!$G$13)","v":""}]
[null,null,{"$f":"IF(ISBLANK(Data!$C$14), \"\",Data!$C$14)","v":"Чернышова Настя"},{"$f":"IF(ISBLANK(Data!$D$14), \"\",Data!$D$14)","v":2002},{"$f":"IF(ISBLANK(Data!$F$14), \"\",Data!$F$14)","v":""},{"$f":"IF(ISBLANK(Data!$G$14), \"\",Data!$G$14)","v":""}]
[null,null,{"$f":"IF(ISBLANK(Data!$C$15), \"\",Data!$C$15)","v":"Рыбакова Алина"},{"$f":"IF(ISBLANK(Data!$D$15), \"\",Data!$D$15)","v":2001},{"$f":"IF(ISBLANK(Data!$F$15), \"\",Data!$F$15)","v":""},{"$f":"IF(ISBLANK(Data!$G$15), \"\",Data!$G$15)","v":""}]
[null,null,{"$f":"IF(ISBLANK(Data!$C$16), \"\",Data!$C$16)","v":"Евтихова Вика"},{"$f":"IF(ISBLANK(Data!$D$16), \"\",Data!$D$16)","v":2003},{"$f":"IF(ISBLANK(Data!$F$16), \"\",Data!$F$16)","v":""},{"$f":"IF(ISBLANK(Data!$G$16), \"\",Data!$G$16)","v":""}]
[null,3,{"$f":"Data!$C$17","v":"Самара \"Малинки\""},null,null,null,{"$f":"'Вид 1'!$L$12","v":13.45},{"$f":"'Вид 2'!$L$12","v":12.8},{"$f":"SUM(G23:H23)","v":26.25},{"$f":"RANK(I23,$I$9:$I$23,0)","v":3}]
[null,null,{"$f":"IF(ISBLANK(Data!$C$18), \"\",Data!$C$18)","v":"Пелевина Саша"},{"$f":"IF(ISBLANK(Data!$D$18), \"\",Data!$D$18)","v":2002},{"$f":"IF(ISBLANK(Data!$F$18), \"\",Data!$F$18)","v":"Самара"},{"$f":"IF(ISBLANK(Data!$G$18), \"\",Data!$G$18)","v":""}]
[null,null,{"$f":"IF(ISBLANK(Data!$C$19), \"\",Data!$C$19)","v":"Зубарева Татьяна"},{"$f":"IF(ISBLANK(Data!$D$19), \"\",Data!$D$19)","v":2002},{"$f":"IF(ISBLANK(Data!$F$19), \"\",Data!$F$19)","v":""},{"$f":"IF(ISBLANK(Data!$G$19), \"\",Data!$G$19)","v":""}]
[null,null,{"$f":"IF(ISBLANK(Data!$C$20), \"\",Data!$C$20)","v":"Кожевникова Варя"},{"$f":"IF(ISBLANK(Data!$D$20), \"\",Data!$D$20)","v":2002},{"$f":"IF(ISBLANK(Data!$F$20), \"\",Data!$F$20)","v":""},{"$f":"IF(ISBLANK(Data!$G$20), \"\",Data!$G$20)","v":""}]
[null,null,{"$f":"IF(ISBLANK(Data!$C$21), \"\",Data!$C$21)","v":"Абрамова Анна"},{"$f":"IF(ISBLANK(Data!$D$21), \"\",Data!$D$21)","v":2002},{"$f":"IF(ISBLANK(Data!$F$21), \"\",Data!$F$21)","v":""},{"$f":"IF(ISBLANK(Data!$G$21), \"\",Data!$G$21)","v":""}]
[null,null,{"$f":"IF(ISBLANK(Data!$C$22), \"\",Data!$C$22)","v":"Лупарева Алина"},{"$f":"IF(ISBLANK(Data!$D$22), \"\",Data!$D$22)","v":2002},{"$f":"IF(ISBLANK(Data!$F$22), \"\",Data!$F$22)","v":""},{"$f":"IF(ISBLANK(Data!$G$22), \"\",Data!$G$22)","v":""}]
[]
[null,"  Сhief justice",null,null,"Bravet Quesis Juana Maria FIG CUBA"]
[]
[null,"  Chief Secretary",null,null,"                   Kalinina Lyubov                    NK RUSSIA"]
[]
[]
[]
[]
[]
[]
[null,"International individual/national groups Rhythmic Gymnastic  Tournament\n«MARINA CUP»  April 17-21nd 2014\n"]
[]
[]
[]
[]
[]
[null,null,null,null,null,"КМС"]
[]
[null,"№","Команда/Гимнастка","г.р.","Город","Тренер","Вид 1","Вид 2","Сумма","Место"]
[null,1,{"$f":"[1]Data!$C$31","v":"Астрахань"},null,null,null,{"$f":"'[1]Вид 1'!$L$12","v":14.933},{"$f":"'[1]Вид 2'!$L$12","v":13.667},{"$f":"SUM(G48:H48)","v":28.6},1]
[null,null,{"$f":"IF(ISBLANK([1]Data!$C$32), \"\",[1]Data!$C$32)","v":"Иванова Екатерина"},{"$f":"IF(ISBLANK([1]Data!$D$32), \"\",[1]Data!$D$32)","v":2000},{"$f":"IF(ISBLANK([1]Data!$F$32), \"\",[1]Data!$F$32)","v":""},{"$f":"IF(ISBLANK([1]Data!$G$32), \"\",[1]Data!$G$32)","v":"Густомясова Е."}]
[null,null,{"$f":"IF(ISBLANK([1]Data!$C$33), \"\",[1]Data!$C$33)","v":"Шпенева Ольга"},{"$f":"IF(ISBLANK([1]Data!$D$33), \"\",[1]Data!$D$33)","v":2000},{"$f":"IF(ISBLANK([1]Data!$F$33), \"\",[1]Data!$F$33)","v":""},{"$f":"IF(ISBLANK([1]Data!$G$33), \"\",[1]Data!$G$33)","v":"Рогова О."}]
[null,null,{"$f":"IF(ISBLANK([1]Data!$C$34), \"\",[1]Data!$C$34)","v":"Доронцева Ксения"},{"$f":"IF(ISBLANK([1]Data!$D$34), \"\",[1]Data!$D$34)","v":2000},{"$f":"IF(ISBLANK([1]Data!$F$34), \"\",[1]Data!$F$34)","v":""},{"$f":"IF(ISBLANK([1]Data!$G$34), \"\",[1]Data!$G$34)","v":"Костенко О."}]
[null,null,{"$f":"IF(ISBLANK([1]Data!$C$35), \"\",[1]Data!$C$35)","v":"Королева Кристина"},{"$f":"IF(ISBLANK([1]Data!$D$35), \"\",[1]Data!$D$35)","v":2000},{"$f":"IF(ISBLANK([1]Data!$F$35), \"\",[1]Data!$F$35)","v":""},{"$f":"IF(ISBLANK([1]Data!$G$35), \"\",[1]Data!$G$35)","v":""}]
[null,null,{"$f":"IF(ISBLANK([1]Data!$C$36), \"\",[1]Data!$C$36)","v":"Адаменкова Маргарита"},{"$f":"IF(ISBLANK([1]Data!$D$36), \"\",[1]Data!$D$36)","v":2000},{"$f":"IF(ISBLANK([1]Data!$F$36), \"\",[1]Data!$F$36)","v":""},{"$f":"IF(ISBLANK([1]Data!$G$36), \"\",[1]Data!$G$36)","v":""}]
[null,null,{"$f":"IF(ISBLANK([1]Data!$C$37), \"\",[1]Data!$C$37)","v":"Дюкова Екатерина"},{"$f":"IF(ISBLANK([1]Data!$D$37), \"\",[1]Data!$D$37)","v":2000},{"$f":"IF(ISBLANK([1]Data!$F$37), \"\",[1]Data!$F$37)","v":""},{"$f":"IF(ISBLANK([1]Data!$G$37), \"\",[1]Data!$G$37)","v":""}]
[null,{"$f":"[1]Data!$B$17","v":2},{"$f":"[1]Data!$C$17","v":"Иваново \"Ламбада\""},null,null,null,{"$f":"'[1]Вид 1'!$L$14","v":13.983000000000001},{"$f":"'[1]Вид 2'!$L$14","v":14.25},{"$f":"SUM(G55:H55)","v":28.233000000000001},2]
[null,null,{"$f":"IF(ISBLANK([1]Data!$C$18), \"\",[1]Data!$C$18)","v":"Шерышева Настя"},{"$f":"IF(ISBLANK([1]Data!$D$18), \"\",[1]Data!$D$18)","v":2000},{"$f":"IF(ISBLANK([1]Data!$F$18), \"\",[1]Data!$F$18)","v":""},{"$f":"IF(ISBLANK([1]Data!$G$18), \"\",[1]Data!$G$18)","v":""}]
[null,null,{"$f":"IF(ISBLANK([1]Data!$C$19), \"\",[1]Data!$C$19)","v":"Станскова Диана"},{"$f":"IF(ISBLANK([1]Data!$D$19), \"\",[1]Data!$D$19)","v":2000},{"$f":"IF(ISBLANK([1]Data!$F$19), \"\",[1]Data!$F$19)","v":""},{"$f":"IF(ISBLANK([1]Data!$G$19), \"\",[1]Data!$G$19)","v":"Кислякова И."}]
[null,null,{"$f":"IF(ISBLANK([1]Data!$C$20), \"\",[1]Data!$C$20)","v":"Степанова Арина"},{"$f":"IF(ISBLANK([1]Data!$D$20), \"\",[1]Data!$D$20)","v":2000},{"$f":"IF(ISBLANK([1]Data!$F$20), \"\",[1]Data!$F$20)","v":""},{"$f":"IF(ISBLANK([1]Data!$G$20), \"\",[1]Data!$G$20)","v":"Харитонова А."}]
[null,null,{"$f":"IF(ISBLANK([1]Data!$C$21), \"\",[1]Data!$C$21)","v":"Бабанова Анна"},{"$f":"IF(ISBLANK([1]Data!$D$21), \"\",[1]Data!$D$21)","v":2000},{"$f":"IF(ISBLANK([1]Data!$F$21), \"\",[1]Data!$F$21)","v":""},{"$f":"IF(ISBLANK([1]Data!$G$21), \"\",[1]Data!$G$21)","v":""}]
[null,null,{"$f":"IF(ISBLANK([1]Data!$C$22), \"\",[1]Data!$C$22)","v":"Снегирева Ксения"},{"$f":"IF(ISBLANK([1]Data!$D$22), \"\",[1]Data!$D$22)","v":1999},{"$f":"IF(ISBLANK([1]Data!$F$22), \"\",[1]Data!$F$22)","v":""},{"$f":"IF(ISBLANK([1]Data!$G$22), \"\",[1]Data!$G$22)","v":""}]
[null,null,{"$f":"IF(ISBLANK([1]Data!$C$23), \"\",[1]Data!$C$23)","v":"Скипор Ольга"},{"$f":"IF(ISBLANK([1]Data!$D$23), \"\",[1]Data!$D$23)","v":1999},{"$f":"IF(ISBLANK([1]Data!$F$23), \"\",[1]Data!$F$23)","v":""},{"$f":"IF(ISBLANK([1]Data!$G$23), \"\",[1]Data!$G$23)","v":""}]
[null,3,{"$f":"[1]Data!$C$45","v":"Самара"},null,null,null,{"$f":"'[1]Вид 1'!$L$16","v":14.35},{"$f":"'[1]Вид 2'!$L$16","v":13.483000000000001},{"$f":"SUM(G62:H62)","v":27.832999999999998},3]
[null,null,{"$f":"IF(ISBLANK([1]Data!$C$46), \"\",[1]Data!$C$46)","v":"Лавочкина Анастасия"},{"$f":"IF(ISBLANK([1]Data!$D$46), \"\",[1]Data!$D$46)","v":1999},{"$f":"IF(ISBLANK([1]Data!$F$46), \"\",[1]Data!$F$46)","v":""},{"$f":"IF(ISBLANK([1]Data!$G$46), \"\",[1]Data!$G$46)","v":"Емелина Н."}]
[null,null,{"$f":"IF(ISBLANK([1]Data!$C$47), \"\",[1]Data!$C$47)","v":"Гурьянова Арина"},{"$f":"IF(ISBLANK([1]Data!$D$47), \"\",[1]Data!$D$47)","v":1999},{"$f":"IF(ISBLANK([1]Data!$F$47), \"\",[1]Data!$F$47)","v":""},{"$f":"IF(ISBLANK([1]Data!$G$47), \"\",[1]Data!$G$47)","v":"Дербина И."}]
[null,null,{"$f":"IF(ISBLANK([1]Data!$C$48), \"\",[1]Data!$C$48)","v":"Игнатюк Ангелина"},{"$f":"IF(ISBLANK([1]Data!$D$48), \"\",[1]Data!$D$48)","v":1999},{"$f":"IF(ISBLANK([1]Data!$F$48), \"\",[1]Data!$F$48)","v":""},{"$f":"IF(ISBLANK([1]Data!$G$48), \"\",[1]Data!$G$48)","v":""}]
[null,null,"Вилесова Анастасия",{"$f":"IF(ISBLANK([1]Data!$D$49), \"\",[1]Data!$D$49)","v":1999},{"$f":"IF(ISBLANK([1]Data!$F$49), \"\",[1]Data!$F$49)","v":""},{"$f":"IF(ISBLANK([1]Data!$G$49), \"\",[1]Data!$G$49)","v":""}]
[null,null,"Вилесова Елизавета",{"$f":"IF(ISBLANK([1]Data!$D$50), \"\",[1]Data!$D$50)","v":1999},{"$f":"IF(ISBLANK([1]Data!$F$50), \"\",[1]Data!$F$50)","v":""},{"$f":"IF(ISBLANK([1]Data!$G$50), \"\",[1]Data!$G$50)","v":""}]
[null,4,{"$f":"[1]Data!$C$24","v":"Рязань"},null,null,null,{"$f":"'[1]Вид 1'!$L$10","v":13.867000000000001},{"$f":"'[1]Вид 2'!$L$10","v":13.715999999999999},{"$f":"SUM(G68:H68)","v":27.582999999999998},4]
[null,null,{"$f":"IF(ISBLANK([1]Data!$C$25), \"\",[1]Data!$C$25)","v":"Мастерова Ксения"},{"$f":"IF(ISBLANK([1]Data!$D$25), \"\",[1]Data!$D$25)","v":2001},{"$f":"IF(ISBLANK([1]Data!$F$25), \"\",[1]Data!$F$25)","v":""},{"$f":"IF(ISBLANK([1]Data!$G$25), \"\",[1]Data!$G$25)","v":"Коробкова М."}]
[null,null,{"$f":"IF(ISBLANK([1]Data!$C$26), \"\",[1]Data!$C$26)","v":"Греченко Дана"},{"$f":"IF(ISBLANK([1]Data!$D$26), \"\",[1]Data!$D$26)","v":2001},{"$f":"IF(ISBLANK([1]Data!$F$26), \"\",[1]Data!$F$26)","v":""},{"$f":"IF(ISBLANK([1]Data!$G$26), \"\",[1]Data!$G$26)","v":"Травкина Е."}]
[null,null,{"$f":"IF(ISBLANK([1]Data!$C$27), \"\",[1]Data!$C$27)","v":"Шуваева Анастасия"},{"$f":"IF(ISBLANK([1]Data!$D$27), \"\",[1]Data!$D$27)","v":2001},{"$f":"IF(ISBLANK([1]Data!$F$27), \"\",[1]Data!$F$27)","v":""},{"$f":"IF(ISBLANK([1]Data!$G$27), \"\",[1]Data!$G$27)","v":""}]
[null,null,{"$f":"IF(ISBLANK([1]Data!$C$28), \"\",[1]Data!$C$28)","v":"Чиркова Олеся"},{"$f":"IF(ISBLANK([1]Data!$D$28), \"\",[1]Data!$D$28)","v":2001},{"$f":"IF(ISBLANK([1]Data!$F$28), \"\",[1]Data!$F$28)","v":""},{"$f":"IF(ISBLANK([1]Data!$G$28), \"\",[1]Data!$G$28)","v":""}]
[null,null,{"$f":"IF(ISBLANK([1]Data!$C$29), \"\",[1]Data!$C$29)","v":"Грибанова Александра"},{"$f":"IF(ISBLANK([1]Data!$D$29), \"\",[1]Data!$D$29)","v":2001},{"$f":"IF(ISBLANK([1]Data!$F$29), \"\",[1]Data!$F$29)","v":""},{"$f":"IF(ISBLANK([1]Data!$G$29), \"\",[1]Data!$G$29)","v":""}]
[null,{"$f":"[1]Data!$B$38","v":5},{"$f":"[1]Data!$C$38","v":"Ярославль"},null,null,null,{"$f":"'[1]Вид 1'!$L$20","v":13.967000000000001},{"$f":"'[1]Вид 2'!$L$20","v":12.882999999999999},{"$f":"SUM(G74:H74)","v":26.85},5]
[null,null,{"$f":"IF(ISBLANK([1]Data!$C$39), \"\",[1]Data!$C$39)","v":"Задворнева Виктория"},{"$f":"IF(ISBLANK([1]Data!$D$39), \"\",[1]Data!$D$39)","v":2000},{"$f":"IF(ISBLANK([1]Data!$F$39), \"\",[1]Data!$F$39)","v":""},{"$f":"IF(ISBLANK([1]Data!$G$39), \"\",[1]Data!$G$39)","v":""}]
[null,null,{"$f":"IF(ISBLANK([1]Data!$C$40), \"\",[1]Data!$C$40)","v":"Бурлако Анна"},{"$f":"IF(ISBLANK([1]Data!$D$40), \"\",[1]Data!$D$40)","v":2000},{"$f":"IF(ISBLANK([1]Data!$F$40), \"\",[1]Data!$F$40)","v":""},{"$f":"IF(ISBLANK([1]Data!$G$40), \"\",[1]Data!$G$40)","v":""}]
[null,null,{"$f":"IF(ISBLANK([1]Data!$C$41), \"\",[1]Data!$C$41)","v":"Климова Полина"},{"$f":"IF(ISBLANK([1]Data!$D$41), \"\",[1]Data!$D$41)","v":2001},{"$f":"IF(ISBLANK([1]Data!$F$41), \"\",[1]Data!$F$41)","v":""},{"$f":"IF(ISBLANK([1]Data!$G$41), \"\",[1]Data!$G$41)","v":""}]
[null,null,{"$f":"IF(ISBLANK([1]Data!$C$42), \"\",[1]Data!$C$42)","v":"Воробьева Анастасия"},{"$f":"IF(ISBLANK([1]Data!$D$42), \"\",[1]Data!$D$42)","v":2000},{"$f":"IF(ISBLANK([1]Data!$F$42), \"\",[1]Data!$F$42)","v":""},{"$f":"IF(ISBLANK([1]Data!$G$42), \"\",[1]Data!$G$42)","v":""}]
[null,null,{"$f":"IF(ISBLANK([1]Data!$C$43), \"\",[1]Data!$C$43)","v":"Лифенко Софья"},{"$f":"IF(ISBLANK([1]Data!$D$43), \"\",[1]Data!$D$43)","v":2000},{"$f":"IF(ISBLANK([1]Data!$F$43), \"\",[1]Data!$F$43)","v":""},{"$f":"IF(ISBLANK([1]Data!$G$43), \"\",[1]Data!$G$43)","v":""}]
[null,null,{"$f":"IF(ISBLANK([1]Data!$C$44), \"\",[1]Data!$C$44)","v":""},{"$f":"IF(ISBLANK([1]Data!$D$44), \"\",[1]Data!$D$44)","v":""},{"$f":"IF(ISBLANK([1]Data!$F$44), \"\",[1]Data!$F$44)","v":""},{"$f":"IF(ISBLANK([1]Data!$G$44), \"\",[1]Data!$G$44)","v":""}]
[]
[null,"  Сhief justice",null,null,"Bravet Quesis Juana Maria FIG CUBA"]
[]
[null,"  Chief Secretary",null,null,"                   Kalinina Lyubov                    NK RUSSIA"]