{"text_format":"1","workbook":"xlsx","n_sheets":4,"sheets":["Templ","Data","Вид 1","Protocol"],"not_rendered":{"charts":0,"images":3,"macros":1,"external_links":1,"defined_names":0,"comments":3,"pivot_tables":0},"unopened":[],"bounds":{"document_bytes":16777216,"sheet_cells":100000,"rows_first":2000,"rows_last":500,"rows_between":2000,"halvings":0,"cell_chars":16384,"cell_head_chars":4096},"cells_cut":0,"cells_raw":0,"read":"whole","date_system":"1900"}

{"sheet":"Templ","index":0,"n_rows":32,"n_cols":28,"rows_kept":32,"cut":false,"hidden":false,"merged":[[5,26,6,26],[5,27,6,27],[19,16,22,16],[3,1,3,6],[14,3,14,6],[5,15,6,15],[5,16,6,16],[3,8,3,12],[3,13,3,16]]}
[1]
[]
[]
[null,"Список участников соревнований",null,null,null,null,null,null,"Название соревнований"]
[null,"№","Гимнастка","Год","Разряд","Город","Тренер",null,null,1,2,3,4,"Оценка","Сбавка","Сумма","МЕСТО",null,null,1,2,3,4,5,"Оценка","Сбавка","Сумма","МЕСТО"]
[null,1,null,null,null,null,null,null,"D",null,null,null,null,{"$f":"(SUM(J6:M6)-(MIN(J6:M6)+MAX(J6:M6)))/2","v":0},null,{"$f":"SUM(N6:N7)-SUM(O6:O7)","v":0},null,null,"D",null,null,null,null,null,{"$f":"(SUM(T6:W6)-(MIN(T6:W6)+MAX(T6:W6)))/2","v":0},null,{"$f":"SUM(Y6:Y7)-SUM(Z6:Z7)","v":0}]
[null,{"$f":"B6+1","v":2},null,null,null,null,null,null,"E",null,null,null,null,{"$f":"(SUM(J7:M7)-(MIN(J7:M7)+MAX(J7:M7)))/2","v":0},null,null,null,null,"E",null,null,null,null,null,{"$f":"(SUM(T7:X7)-(MIN(T7:X7)+MAX(T7:X7)))/3","v":0}]
[]
[]
[]
[]
[]
[]
[]
[null,null,"Сводный протокол"]
[]
[]
[]
[null,"№","Команда/Гимнастка","г.р.","Разряд","Город","Тренер",null,null,1,2,3,4,"Оценка","Сбавка","Сумма","МЕСТО"]
[null,1,null,null,null,null,null,null,"D1",null,null,null,null,{"$f":"(SUM(J20:M20)-(MIN(J20:M20)+MAX(J20:M20)))/2","v":0},null,{"$f":"SUM(N20:N23)-SUM(O20:O23)","v":0}]
[null,null,null,null,null,null,null,null,"D2",null,null,null,null,0]
[null,null,null,null,null,null,null,null,"A",null,null,null,null,{"$f":"(SUM(J22:M22)-(MIN(J22:M22)+MAX(J22:M22)))/2","v":0}]
[null,null,null,null,null,null,null,null,"E",null,null,null,null,{"$f":"(SUM(J23:M23)-(MIN(J23:M23)+MAX(J23:M23)))/2","v":0}]
[]
[]
[]
[]
[]
[]
[null,null,"Главный судья"]
[]
[null,null,"Главный секретарь"]

{"sheet":"Data","index":1,"n_rows":30,"n_cols":13,"rows_kept":30,"cut":false,"hidden":false,"merged":[[7,1,7,6]]}
[]
[null,null,"Вид соревнований","Групповые"]
[null,null,"Число участников в группе",6]
[null,null,"Число групп",3]
[null,null,"Количество видов:",2]
[null,null,"Вид оценки:",5]
[]
[null,"Список участников соревнований",null,null,null,null,null,null,"Жеребьевка"]
[null,"№","Команда/Гимнастка","г.р.","Разряд","Город","Тренер",null,"№","Команда/Гимнастка","г.р.","Разряд","Город"]
[null,1,"Иваново \"Кураж\"",null,null,"Иваново",null,null,{"$f":"$B$17","v":2},{"$f":"$C$17","v":"Рязань"},{"$f":"$D$17","v":0},{"$f":"$E$17","v":0},{"$f":"$F$17","v":"Рязань"}]
[null,null,"Коринь Настя",2003,3,null,"Кибирева Н.",null,{"$f":"$B$10","v":1},{"$f":"$C$10","v":"Иваново \"Кураж\""},{"$f":"$D$10","v":0},{"$f":"$E$10","v":0},{"$f":"$F$10","v":"Иваново"}]
[null,null,"Леньшина Катя",2003,3,null,"Соколова Е.",null,{"$f":"$B$24","v":3},{"$f":"$C$24","v":"Ивановом\"Ажур\""},{"$f":"$D$24","v":0},{"$f":"$E$24","v":0},{"$f":"$F$24","v":"Иваново"}]
[null,null,"Иванова Лера",2003,3,null,"Ибрагимова А."]
[null,null,"Плохова Катя",2004,2.7,3]
[null,null,"Миронова Даша",2004,3]
[null,null,"Копнина Злата",2004,3]
[null,{"$f":"B10 + 1","v":2},"Рязань",null,null,"Рязань"]
[null,null,"Капитонова Алина",2003,null,null,"Коробкова М."]
[null,null,"Аверина Валерия",2003,null,null,"Травкина Е."]
[null,null,"Зонова Валерия",2003]
[null,null,"Васильева Анна",2003]
[null,null,"Капралова Алена",2003]
[]
[null,{"$f":"B17 + 1","v":3},"Ивановом\"Ажур\"",null,null,"Иваново"]
[null,null,"Гриднева Александра",2004,null,null,"Политун М."]
[null,null,"Константинова Софи",2005,null,null,"Кислякова И."]
[null,null,"Порюгина Екатерина",2004]
[null,null,"Шаталова Алена",2005]
[null,null,"Лебедева Ксюша",2005]
[null,null,"Измайлова Карина",2005]

{"sheet":"Вид 1","index":2,"n_rows":15,"n_cols":13,"rows_kept":15,"cut":false,"hidden":false,"merged":[[9,11,10,11],[9,12,10,12],[11,11,12,11],[11,12,12,12],[13,11,14,11],[13,12,14,12],[9,1,10,1],[9,2,10,2],[11,1,12,1],[11,2,12,2],[13,1,14,1],[13,2,14,2]]}
[null,null,null,2,9,13]
[]
[]
[]
[]
[]
[]
[]
[null,"№","Команда/Гимнастка",null,1,2,3,4,5,"Оценка","Сбавка","Сумма","МЕСТО"]
[null,{"$f":"Data!$B$17","v":2},{"$f":"Data!$C$17","v":"Рязань"},"D",6.3,6.1,6.3,6.8,null,{"$f":"(SUM(E10:H10)-(MIN(E10:H10)+MAX(E10:H10)))/2","v":6.3000000000000007},null,{"$f":"SUM(J10:J11)-SUM(K10:K11)","v":13.766666666666669},{"$f":"RANK(L10,$L$10:$L$15,0)","v":1}]
[null,null,null,"E",7.6,7.4,7,7.7,7.4,{"$f":"(SUM(E11:I11)-(MIN(E11:I11)+MAX(E11:I11)))/3","v":7.4666666666666677}]
[null,{"$f":"Data!$B$10","v":1},{"$f":"Data!$C$10","v":"Иваново \"Кураж\""},"D",4.7,4.2,4.5,4.4000000000000004,null,{"$f":"(SUM(E12:H12)-(MIN(E12:H12)+MAX(E12:H12)))/2","v":4.45},null,{"$f":"SUM(J12:J13)-SUM(K12:K13)","v":10.549999999999999},{"$f":"RANK(L12,$L$10:$L$15,0)","v":3}]
[null,null,null,"E",6.9,5.8,6.3,7.5,6,{"$f":"(SUM(E13:I13)-(MIN(E13:I13)+MAX(E13:I13)))/3","v":6.3999999999999995},0.3]
[null,{"$f":"Data!$B$24","v":3},{"$f":"Data!$C$24","v":"Ивановом\"Ажур\""},"D",2.7,3,3.2,2.9,null,{"$f":"(SUM(E14:H14)-(MIN(E14:H14)+MAX(E14:H14)))/2","v":2.95},null,{"$f":"SUM(J14:J15)-SUM(K14:K15)","v":10.616666666666667},{"$f":"RANK(L14,$L$10:$L$15,0)","v":2}]
[null,null,null,"E",7.8,6.7,7.7,8,7.5,{"$f":"(SUM(E15:I15)-(MIN(E15:I15)+MAX(E15:I15)))/3","v":7.6666666666666679}]

{"sheet":"Protocol","index":3,"n_rows":57,"n_cols":11,"rows_kept":57,"cut":false,"hidden":false,"merged":[[7,3,7,6],[31,3,31,6],[0,2,3,9],[54,5,54,11],[56,5,56,10]]}
[null,null,"International individual/national groups Rhythmic Gymnastic  Tournament\n«MARINA CUP»  April 17-21nd 2014\n"]
[]
[]
[]
[]
[]
[]
[null,null,null,"2 разряд"]
[null,"№","Команда/Гимнастка","г.р.","Разряд","Город","Тренер","Вид 1","Вид 2","Сумма","Место"]
[null,1,{"$f":"Data!$C$17","v":"Рязань"},null,null,null,null,{"$f":"'Вид 1'!$L$10","v":13.766666666666669},11.9,{"$f":"SUM(H10:I10)","v":25.666666666666671},{"$f":"RANK(J10,$J$10:$J$24,0)","v":1}]
[null,null,{"$f":"IF(ISBLANK(Data!$C$18), \"\",Data!$C$18)","v":"Капитонова Алина"},{"$f":"IF(ISBLANK(Data!$D$18), \"\",Data!$D$18)","v":2003},{"$f":"IF(ISBLANK(Data!$E$18), \"\",Data!$E$18)","v":""},{"$f":"IF(ISBLANK(Data!$F$18), \"\",Data!$F$18)","v":""},{"$f":"IF(ISBLANK(Data!$G$18), \"\",Data!$G$18)","v":"Коробкова М."}]
[null,null,{"$f":"IF(ISBLANK(Data!$C$19), \"\",Data!$C$19)","v":"Аверина Валерия"},{"$f":"IF(ISBLANK(Data!$D$19), \"\",Data!$D$19)","v":2003},{"$f":"IF(ISBLANK(Data!$E$19), \"\",Data!$E$19)","v":""},{"$f":"IF(ISBLANK(Data!$F$19), \"\",Data!$F$19)","v":""},{"$f":"IF(ISBLANK(Data!$G$19), \"\",Data!$G$19)","v":"Травкина Е."}]
[null,null,{"$f":"IF(ISBLANK(Data!$C$20), \"\",Data!$C$20)","v":"Зонова Валерия"},{"$f":"IF(ISBLANK(Data!$D$20), \"\",Data!$D$20)","v":2003},{"$f":"IF(ISBLANK(Data!$E$20), \"\",Data!$E$20)","v":""},{"$f":"IF(ISBLANK(Data!$F$20), \"\",Data!$F$20)","v":""},{"$f":"IF(ISBLANK(Data!$G$20), \"\",Data!$G$20)","v":""}]
[null,null,{"$f":"IF(ISBLANK(Data!$C$21), \"\",Data!$C$21)","v":"Васильева Анна"},{"$f":"IF(ISBLANK(Data!$D$21), \"\",Data!$D$21)","v":2003},{"$f":"IF(ISBLANK(Data!$E$21), \"\",Data!$E$21)","v":""},{"$f":"IF(ISBLANK(Data!$F$21), \"\",Data!$F$21)","v":""},{"$f":"IF(ISBLANK(Data!$G$21), \"\",Data!$G$21)","v":""}]
[null,null,{"$f":"IF(ISBLANK(Data!$C$22), \"\",Data!$C$22)","v":"Капралова Алена"},{"$f":"IF(ISBLANK(Data!$D$22), \"\",Data!$D$22)","v":2003},{"$f":"IF(ISBLANK(Data!$E$22), \"\",Data!$E$22)","v":""},{"$f":"IF(ISBLANK(Data!$F$22), \"\",Data!$F$22)","v":""},{"$f":"IF(ISBLANK(Data!$G$22), \"\",Data!$G$22)","v":""}]
[null,null,{"$f":"IF(ISBLANK(Data!$C$23), \"\",Data!$C$23)","v":""},{"$f":"IF(ISBLANK(Data!$D$23), \"\",Data!$D$23)","v":""},{"$f":"IF(ISBLANK(Data!$E$23), \"\",Data!$E$23)","v":""},{"$f":"IF(ISBLANK(Data!$F$23), \"\",Data!$F$23)","v":""},{"$f":"IF(ISBLANK(Data!$G$23), \"\",Data!$G$23)","v":""}]
[null,2,{"$f":"Data!$C$24","v":"Ивановом\"Ажур\""},null,null,null,null,{"$f":"'Вид 1'!$L$14","v":10.616666666666667},10.882999999999999,{"$f":"SUM(H17:I17)","v":21.499666666666666},{"$f":"RANK(J17,$J$10:$J$24,0)","v":2}]
[null,null,{"$f":"IF(ISBLANK(Data!$C$25), \"\",Data!$C$25)","v":"Гриднева Александра"},{"$f":"IF(ISBLANK(Data!$D$25), \"\",Data!$D$25)","v":2004},{"$f":"IF(ISBLANK(Data!$E$25), \"\",Data!$E$25)","v":""},{"$f":"IF(ISBLANK(Data!$F$25), \"\",Data!$F$25)","v":""},{"$f":"IF(ISBLANK(Data!$G$25), \"\",Data!$G$25)","v":"Политун М."}]
[null,null,{"$f":"IF(ISBLANK(Data!$C$26), \"\",Data!$C$26)","v":"Константинова Софи"},{"$f":"IF(ISBLANK(Data!$D$26), \"\",Data!$D$26)","v":2005},{"$f":"IF(ISBLANK(Data!$E$26), \"\",Data!$E$26)","v":""},{"$f":"IF(ISBLANK(Data!$F$26), \"\",Data!$F$26)","v":""},{"$f":"IF(ISBLANK(Data!$G$26), \"\",Data!$G$26)","v":"Кислякова И."}]
[null,null,{"$f":"IF(ISBLANK(Data!$C$27), \"\",Data!$C$27)","v":"Порюгина Екатерина"},{"$f":"IF(ISBLANK(Data!$D$27), \"\",Data!$D$27)","v":2004},{"$f":"IF(ISBLANK(Data!$E$27), \"\",Data!$E$27)","v":""},{"$f":"IF(ISBLANK(Data!$F$27), \"\",Data!$F$27)","v":""},{"$f":"IF(ISBLANK(Data!$G$27), \"\",Data!$G$27)","v":""}]
[null,null,{"$f":"IF(ISBLANK(Data!$C$28), \"\",Data!$C$28)","v":"Шаталова Алена"},{"$f":"IF(ISBLANK(Data!$D$28), \"\",Data!$D$28)","v":2005},{"$f":"IF(ISBLANK(Data!$E$28), \"\",Data!$E$28)","v":""},{"$f":"IF(ISBLANK(Data!$F$28), \"\",Data!$F$28)","v":""},{"$f":"IF(ISBLANK(Data!$G$28), \"\",Data!$G$28)","v":""}]
[null,null,{"$f":"IF(ISBLANK(Data!$C$29), \"\",Data!$C$29)","v":"Лебедева Ксюша"},{"$f":"IF(ISBLANK(Data!$D$29), \"\",Data!$D$29)","v":2005},{"$f":"IF(ISBLANK(Data!$E$29), \"\",Data!$E$29)","v":""},{"$f":"IF(ISBLANK(Data!$F$29), \"\",Data!$F$29)","v":""},{"$f":"IF(ISBLANK(Data!$G$29), \"\",Data!$G$29)","v":""}]
[null,null,{"$f":"IF(ISBLANK(Data!$C$30), \"\",Data!$C$30)","v":"Измайлова Карина"},{"$f":"IF(ISBLANK(Data!$D$30), \"\",Data!$D$30)","v":2005},{"$f":"IF(ISBLANK(Data!$E$30), \"\",Data!$E$30)","v":""},{"$f":"IF(ISBLANK(Data!$F$30), \"\",Data!$F$30)","v":""},{"$f":"IF(ISBLANK(Data!$G$30), \"\",Data!$G$30)","v":""}]
[null,3,{"$f":"Data!$C$10","v":"Иваново \"Кураж\""},null,null,null,null,{"$f":"'Вид 1'!$L$12","v":10.549999999999999},9.2330000000000005,{"$f":"SUM(H24:I24)","v":19.783000000000001},{"$f":"RANK(J24,$J$10:$J$24,0)","v":3}]
[null,null,{"$f":"IF(ISBLANK(Data!$C$11), \"\",Data!$C$11)","v":"Коринь Настя"},{"$f":"IF(ISBLANK(Data!$D$11), \"\",Data!$D$11)","v":2003},{"$f":"IF(ISBLANK(Data!$E$11), \"\",Data!$E$11)","v":3},{"$f":"IF(ISBLANK(Data!$F$11), \"\",Data!$F$11)","v":""},{"$f":"IF(ISBLANK(Data!$G$11), \"\",Data!$G$11)","v":"Кибирева Н."}]
[null,null,{"$f":"IF(ISBLANK(Data!$C$12), \"\",Data!$C$12)","v":"Леньшина Катя"},{"$f":"IF(ISBLANK(Data!$D$12), \"\",Data!$D$12)","v":2003},{"$f":"IF(ISBLANK(Data!$E$12), \"\",Data!$E$12)","v":3},{"$f":"IF(ISBLANK(Data!$F$12), \"\",Data!$F$12)","v":""},{"$f":"IF(ISBLANK(Data!$G$12), \"\",Data!$G$12)","v":"Соколова Е."}]
[null,null,{"$f":"IF(ISBLANK(Data!$C$13), \"\",Data!$C$13)","v":"Иванова Лера"},{"$f":"IF(ISBLANK(Data!$D$13), \"\",Data!$D$13)","v":2003},{"$f":"IF(ISBLANK(Data!$E$13), \"\",Data!$E$13)","v":3},{"$f":"IF(ISBLANK(Data!$F$13), \"\",Data!$F$13)","v":""},{"$f":"IF(ISBLANK(Data!$G$13), \"\",Data!$G$13)","v":"Ибрагимова А."}]
[null,null,{"$f":"IF(ISBLANK(Data!$C$14), \"\",Data!$C$14)","v":"Плохова Катя"},{"$f":"IF(ISBLANK(Data!$D$14), \"\",Data!$D$14)","v":2004},{"$f":"IF(ISBLANK(Data!$E$14), \"\",Data!$E$14)","v":2.7},{"$f":"IF(ISBLANK(Data!$F$14), \"\",Data!$F$14)","v":3},{"$f":"IF(ISBLANK(Data!$G$14), \"\",Data!$G$14)","v":""}]
[null,null,{"$f":"IF(ISBLANK(Data!$C$15), \"\",Data!$C$15)","v":"Миронова Даша"},{"$f":"IF(ISBLANK(Data!$D$15), \"\",Data!$D$15)","v":2004},{"$f":"IF(ISBLANK(Data!$E$15), \"\",Data!$E$15)","v":3},{"$f":"IF(ISBLANK(Data!$F$15), \"\",Data!$F$15)","v":""},{"$f":"IF(ISBLANK(Data!$G$15), \"\",Data!$G$15)","v":""}]
[null,null,{"$f":"IF(ISBLANK(Data!$C$16), \"\",Data!$C$16)","v":"Копнина Злата"},{"$f":"IF(ISBLANK(Data!$D$16), \"\",Data!$D$16)","v":2004},{"$f":"IF(ISBLANK(Data!$E$16), \"\",Data!$E$16)","v":3},{"$f":"IF(ISBLANK(Data!$F$16), \"\",Data!$F$16)","v":""},{"$f":"IF(ISBLANK(Data!$G$16), \"\",Data!$G$16)","v":""}]
[]
[null,null,null,"3 разряд групповые упражнения"]
[null,"№","Команда/Гимнастка","г.р.","Разряд","Город","Тренер","Вид 1","Вид 2","Сумма","Место"]
[null,1,{"$f":"[1]Data!$C$17","v":"Рязань "},null,null,null,null,{"$f":"'[1]Вид 1'!$L$14","v":11.467000000000001},11.75,{"$f":"SUM(H34:I34)","v":23.216999999999999},1]
[null,null,{"$f":"IF(ISBLANK([1]Data!$C$18), \"\",[1]Data!$C$18)","v":"Телицина Варвара"},{"$f":"IF(ISBLANK([1]Data!$D$18), \"\",[1]Data!$D$18)","v":2004},{"$f":"IF(ISBLANK([1]Data!$E$18), \"\",[1]Data!$E$18)","v":""},{"$f":"IF(ISBLANK([1]Data!$F$18), \"\",[1]Data!$F$18)","v":""},{"$f":"IF(ISBLANK([1]Data!$G$18), \"\",[1]Data!$G$18)","v":"Коробкова М"}]
[null,null,{"$f":"IF(ISBLANK([1]Data!$C$19), \"\",[1]Data!$C$19)","v":"Стадник Полина"},{"$f":"IF(ISBLANK([1]Data!$D$19), \"\",[1]Data!$D$19)","v":2004},{"$f":"IF(ISBLANK([1]Data!$E$19), \"\",[1]Data!$E$19)","v":""},{"$f":"IF(ISBLANK([1]Data!$F$19), \"\",[1]Data!$F$19)","v":""},{"$f":"IF(ISBLANK([1]Data!$G$19), \"\",[1]Data!$G$19)","v":"Травкина Е."}]
[null,null,{"$f":"IF(ISBLANK([1]Data!$C$20), \"\",[1]Data!$C$20)","v":"Гуркина Ольга"},{"$f":"IF(ISBLANK([1]Data!$D$20), \"\",[1]Data!$D$20)","v":2004},{"$f":"IF(ISBLANK([1]Data!$E$20), \"\",[1]Data!$E$20)","v":""},{"$f":"IF(ISBLANK([1]Data!$F$20), \"\",[1]Data!$F$20)","v":""},{"$f":"IF(ISBLANK([1]Data!$G$20), \"\",[1]Data!$G$20)","v":""}]
[null,null,{"$f":"IF(ISBLANK([1]Data!$C$21), \"\",[1]Data!$C$21)","v":"Доронина Елизавета"},{"$f":"IF(ISBLANK([1]Data!$D$21), \"\",[1]Data!$D$21)","v":2005},{"$f":"IF(ISBLANK([1]Data!$E$21), \"\",[1]Data!$E$21)","v":""},{"$f":"IF(ISBLANK([1]Data!$F$21), \"\",[1]Data!$F$21)","v":""},{"$f":"IF(ISBLANK([1]Data!$G$21), \"\",[1]Data!$G$21)","v":""}]
[null,null,{"$f":"IF(ISBLANK([1]Data!$C$22), \"\",[1]Data!$C$22)","v":"Манохина Юлия"},{"$f":"IF(ISBLANK([1]Data!$D$22), \"\",[1]Data!$D$22)","v":2005},{"$f":"IF(ISBLANK([1]Data!$E$22), \"\",[1]Data!$E$22)","v":""},{"$f":"IF(ISBLANK([1]Data!$F$22), \"\",[1]Data!$F$22)","v":""},{"$f":"IF(ISBLANK([1]Data!$G$22), \"\",[1]Data!$G$22)","v":""}]
[null,2,{"$f":"[1]Data!$C$24","v":"Москва"},null,null,null,null,{"$f":"'[1]Вид 1'!$L$12","v":10.95},10.867000000000001,{"$f":"SUM(H40:I40)","v":21.817},2]
[null,null,{"$f":"IF(ISBLANK([1]Data!$C$25), \"\",[1]Data!$C$25)","v":"Маслова Анна"},{"$f":"IF(ISBLANK([1]Data!$D$25), \"\",[1]Data!$D$25)","v":2005},{"$f":"IF(ISBLANK([1]Data!$E$25), \"\",[1]Data!$E$25)","v":"1 юн."},{"$f":"IF(ISBLANK([1]Data!$F$25), \"\",[1]Data!$F$25)","v":""},{"$f":"IF(ISBLANK([1]Data!$G$25), \"\",[1]Data!$G$25)","v":"Сесина В,"}]
[null,null,{"$f":"IF(ISBLANK([1]Data!$C$26), \"\",[1]Data!$C$26)","v":"Зарубина Кристина"},{"$f":"IF(ISBLANK([1]Data!$D$26), \"\",[1]Data!$D$26)","v":2004},{"$f":"IF(ISBLANK([1]Data!$E$26), \"\",[1]Data!$E$26)","v":"1 юн."},{"$f":"IF(ISBLANK([1]Data!$F$26), \"\",[1]Data!$F$26)","v":""},{"$f":"IF(ISBLANK([1]Data!$G$26), \"\",[1]Data!$G$26)","v":"Мишенина А."}]
[null,null,{"$f":"IF(ISBLANK([1]Data!$C$27), \"\",[1]Data!$C$27)","v":"Галицкая Виктория"},{"$f":"IF(ISBLANK([1]Data!$D$27), \"\",[1]Data!$D$27)","v":2004},{"$f":"IF(ISBLANK([1]Data!$E$27), \"\",[1]Data!$E$27)","v":"1 юн."},{"$f":"IF(ISBLANK([1]Data!$F$27), \"\",[1]Data!$F$27)","v":""},{"$f":"IF(ISBLANK([1]Data!$G$27), \"\",[1]Data!$G$27)","v":"Каюмова К."}]
[null,null,{"$f":"IF(ISBLANK([1]Data!$C$28), \"\",[1]Data!$C$28)","v":"Чернявская Полина"},{"$f":"IF(ISBLANK([1]Data!$D$28), \"\",[1]Data!$D$28)","v":2004},{"$f":"IF(ISBLANK([1]Data!$E$28), \"\",[1]Data!$E$28)","v":"1 юн."},{"$f":"IF(ISBLANK([1]Data!$F$28), \"\",[1]Data!$F$28)","v":""},{"$f":"IF(ISBLANK([1]Data!$G$28), \"\",[1]Data!$G$28)","v":""}]
[null,null,{"$f":"IF(ISBLANK([1]Data!$C$29), \"\",[1]Data!$C$29)","v":"Сопова Дарья"},{"$f":"IF(ISBLANK([1]Data!$D$29), \"\",[1]Data!$D$29)","v":2004},{"$f":"IF(ISBLANK([1]Data!$E$29), \"\",[1]Data!$E$29)","v":"1 юн."},{"$f":"IF(ISBLANK([1]Data!$F$29), \"\",[1]Data!$F$29)","v":""},{"$f":"IF(ISBLANK([1]Data!$G$29), \"\",[1]Data!$G$29)","v":""}]
[null,null,{"$f":"IF(ISBLANK([1]Data!$C$30), \"\",[1]Data!$C$30)","v":"Цветкова Юлия"},{"$f":"IF(ISBLANK([1]Data!$D$30), \"\",[1]Data!$D$30)","v":2004},{"$f":"IF(ISBLANK([1]Data!$E$30), \"\",[1]Data!$E$30)","v":"1юн."},{"$f":"IF(ISBLANK([1]Data!$F$30), \"\",[1]Data!$F$30)","v":""},{"$f":"IF(ISBLANK([1]Data!$G$30), \"\",[1]Data!$G$30)","v":""}]
[null,3,{"$f":"[1]Data!$C$10","v":"Иваново \"Ника\""},null,null,null,null,{"$f":"'[1]Вид 1'!$L$10","v":11.3},9.8170000000000002,{"$f":"SUM(H47:I47)","v":21.117000000000001},3]
[null,null,{"$f":"IF(ISBLANK([1]Data!$C$11), \"\",[1]Data!$C$11)","v":"Ковальская Кристина"},{"$f":"IF(ISBLANK([1]Data!$D$11), \"\",[1]Data!$D$11)","v":2006},{"$f":"IF(ISBLANK([1]Data!$E$11), \"\",[1]Data!$E$11)","v":""},{"$f":"IF(ISBLANK([1]Data!$F$11), \"\",[1]Data!$F$11)","v":""},{"$f":"IF(ISBLANK([1]Data!$G$11), \"\",[1]Data!$G$11)","v":"Соколова Е."}]
[null,null,{"$f":"IF(ISBLANK([1]Data!$C$12), \"\",[1]Data!$C$12)","v":"Соколова Дарья"},{"$f":"IF(ISBLANK([1]Data!$D$12), \"\",[1]Data!$D$12)","v":2005},{"$f":"IF(ISBLANK([1]Data!$E$12), \"\",[1]Data!$E$12)","v":""},{"$f":"IF(ISBLANK([1]Data!$F$12), \"\",[1]Data!$F$12)","v":""},{"$f":"IF(ISBLANK([1]Data!$G$12), \"\",[1]Data!$G$12)","v":"Кибирева Н."}]
[null,null,{"$f":"IF(ISBLANK([1]Data!$C$13), \"\",[1]Data!$C$13)","v":"Грязнова Анна"},{"$f":"IF(ISBLANK([1]Data!$D$13), \"\",[1]Data!$D$13)","v":2005},{"$f":"IF(ISBLANK([1]Data!$E$13), \"\",[1]Data!$E$13)","v":""},{"$f":"IF(ISBLANK([1]Data!$F$13), \"\",[1]Data!$F$13)","v":""},{"$f":"IF(ISBLANK([1]Data!$G$13), \"\",[1]Data!$G$13)","v":"Ибрагимова А."}]
[null,null,{"$f":"IF(ISBLANK([1]Data!$C$14), \"\",[1]Data!$C$14)","v":"Тимошенко Виктория"},{"$f":"IF(ISBLANK([1]Data!$D$14), \"\",[1]Data!$D$14)","v":2005},{"$f":"IF(ISBLANK([1]Data!$E$14), \"\",[1]Data!$E$14)","v":""},{"$f":"IF(ISBLANK([1]Data!$F$14), \"\",[1]Data!$F$14)","v":""},{"$f":"IF(ISBLANK([1]Data!$G$14), \"\",[1]Data!$G$14)","v":""}]
[null,null,{"$f":"IF(ISBLANK([1]Data!$C$15), \"\",[1]Data!$C$15)","v":"Федорук Яна Чистякова Соня"},{"$f":"IF(ISBLANK([1]Data!$D$15), \"\",[1]Data!$D$15)","v":2005},{"$f":"IF(ISBLANK([1]Data!$E$15), \"\",[1]Data!$E$15)","v":""},{"$f":"IF(ISBLANK([1]Data!$F$15), \"\",[1]Data!$F$15)","v":""},{"$f":"IF(ISBLANK([1]Data!$G$15), \"\",[1]Data!$G$15)","v":""}]
[null,null,{"$f":"IF(ISBLANK([1]Data!$C$16), \"\",[1]Data!$C$16)","v":"Воробьева Полина"},{"$f":"IF(ISBLANK([1]Data!$D$16), \"\",[1]Data!$D$16)","v":2005},{"$f":"IF(ISBLANK([1]Data!$E$16), \"\",[1]Data!$E$16)","v":""},{"$f":"IF(ISBLANK([1]Data!$F$16), \"\",[1]Data!$F$16)","v":""},{"$f":"IF(ISBLANK([1]Data!$G$16), \"\",[1]Data!$G$16)","v":""}]
[]
[null,"  Сhief justice",null,null,null,"Bravet Quesis Juana Maria FIG CUBA"]
[]
[null,"  Chief Secretary",null,null,null,"                   Kalinina Lyubov                    NK RUSSIA"]