{"text_format":"1","workbook":"xlsx","n_sheets":5,"sheets":["Templ","Data","Вид 1","Вид 2","Protocol"],"not_rendered":{"charts":0,"images":1,"macros":1,"external_links":0,"defined_names":0,"comments":3,"pivot_tables":0},"unopened":[],"bounds":{"document_bytes":16777216,"sheet_cells":100000,"rows_first":2000,"rows_last":500,"rows_between":2000,"halvings":0,"cell_chars":16384,"cell_head_chars":4096},"cells_cut":0,"cells_raw":0,"read":"whole","date_system":"1900"}

{"sheet":"Templ","index":0,"n_rows":32,"n_cols":28,"rows_kept":32,"cut":false,"hidden":false,"merged":[[5,26,6,26],[5,27,6,27],[19,16,22,16],[3,1,3,6],[14,3,14,6],[5,15,6,15],[5,16,6,16],[3,8,3,12],[3,13,3,16]]}
[1]
[]
[]
[null,"Список участников соревнований",null,null,null,null,null,null,"Название соревнований"]
[null,"№","Гимнастка","Год","Разряд","Город","Тренер",null,null,1,2,3,4,"Оценка","Сбавка","Сумма","МЕСТО",null,null,1,2,3,4,5,"Оценка","Сбавка","Сумма","МЕСТО"]
[null,1,null,null,null,null,null,null,"D",null,null,null,null,{"$f":"(SUM(J6:M6)-(MIN(J6:M6)+MAX(J6:M6)))/2","v":0},null,{"$f":"SUM(N6:N7)-SUM(O6:O7)","v":0},null,null,"D",null,null,null,null,null,{"$f":"(SUM(T6:W6)-(MIN(T6:W6)+MAX(T6:W6)))/2","v":0},null,{"$f":"SUM(Y6:Y7)-SUM(Z6:Z7)","v":0}]
[null,{"$f":"B6+1","v":2},null,null,null,null,null,null,"E",null,null,null,null,{"$f":"(SUM(J7:M7)-(MIN(J7:M7)+MAX(J7:M7)))/2","v":0},null,null,null,null,"E",null,null,null,null,null,{"$f":"(SUM(T7:X7)-(MIN(T7:X7)+MAX(T7:X7)))/3","v":0}]
[]
[]
[]
[]
[]
[]
[]
[null,null,"Сводный протокол"]
[]
[]
[]
[null,"№","Команда/Гимнастка","г.р.","Разряд","Город","Тренер",null,null,1,2,3,4,"Оценка","Сбавка","Сумма","МЕСТО"]
[null,1,null,null,null,null,null,null,"D1",null,null,null,null,{"$f":"(SUM(J20:M20)-(MIN(J20:M20)+MAX(J20:M20)))/2","v":0},null,{"$f":"SUM(N20:N23)-SUM(O20:O23)","v":0}]
[null,null,null,null,null,null,null,null,"D2",null,null,null,null,0]
[null,null,null,null,null,null,null,null,"A",null,null,null,null,{"$f":"(SUM(J22:M22)-(MIN(J22:M22)+MAX(J22:M22)))/2","v":0}]
[null,null,null,null,null,null,null,null,"E",null,null,null,null,{"$f":"(SUM(J23:M23)-(MIN(J23:M23)+MAX(J23:M23)))/2","v":0}]
[]
[]
[]
[]
[]
[]
[null,null,"Главный судья"]
[]
[null,null,"Главный секретарь"]

{"sheet":"Data","index":1,"n_rows":52,"n_cols":13,"rows_kept":52,"cut":false,"hidden":false,"merged":[[7,1,7,6]]}
[]
[null,null,"Вид соревнований","Групповые"]
[null,null,"Число участников в группе",6]
[null,null,"Число групп",7]
[null,null,"Количество видов:",2]
[null,null,"Вид оценки:",5]
[]
[null,"Список участников соревнований",null,null,null,null,null,null,"Жеребьевка"]
[null,"№","Команда/Гимнастка","г.р.","Разряд","Город","Тренер",null,"№","Команда/Гимнастка","г.р.","Разряд","Город"]
[null,1,null,null,null,null,null,null,{"$f":"$B$24","v":3},{"$f":"$C$24","v":"Рязань"},{"$f":"$D$24","v":0},{"$f":"$E$24","v":0},{"$f":"$F$24","v":"Рязань"}]
[null,null,null,null,null,null,null,null,{"$f":"$B$31","v":4},{"$f":"$C$31","v":"Астрахань"},{"$f":"$D$31","v":0},{"$f":"$E$31","v":0},{"$f":"$F$31","v":"Астрахань"}]
[null,null,null,null,null,null,null,null,{"$f":"$B$17","v":2},{"$f":"$C$17","v":"Иваново \"Ламбада\""},{"$f":"$D$17","v":0},{"$f":"$E$17","v":0},{"$f":"$F$17","v":"Иваново"}]
[null,null,null,null,null,null,null,null,{"$f":"$B$45","v":6},{"$f":"$C$45","v":"Самара"},{"$f":"$D$45","v":0},{"$f":"$E$45","v":0},{"$f":"$F$45","v":"Самара"}]
[null,null,null,null,null,null,null,null,{"$f":"$B$10","v":1},{"$f":"$C$10","v":0},{"$f":"$D$10","v":0},{"$f":"$E$10","v":0},{"$f":"$F$10","v":0}]
[null,null,null,null,null,null,null,null,{"$f":"$B$38","v":5},{"$f":"$C$38","v":"Ярославль"},{"$f":"$D$38","v":0},{"$f":"$E$38","v":0},{"$f":"$F$38","v":"Ярославль"}]
[null,null,null,null,null,null,null,null,{"$f":"$B$52","v":7},{"$f":"$C$52","v":"Сборная России"},{"$f":"$D$52","v":0},{"$f":"$E$52","v":0},{"$f":"$F$52","v":0}]
[null,{"$f":"B10 + 1","v":2},"Иваново \"Ламбада\"",null,null,"Иваново"]
[null,null,"Шерышева Настя",2000,"КМС"]
[null,null,"Станскова Диана",2000,"КМС",null,"Кислякова И."]
[null,null,"Степанова Арина",2000,"КМС",null,"Харитонова А."]
[null,null,"Бабанова Анна",2000,"КМС"]
[null,null,"Снегирева Ксения",1999,"КМС"]
[null,null,"Скипор Ольга",1999,"КМС"]
[null,{"$f":"B17 + 1","v":3},"Рязань",null,null,"Рязань"]
[null,null,"Мастерова Ксения",2001,null,null,"Коробкова М."]
[null,null,"Греченко Дана",2001,null,null,"Травкина Е."]
[null,null,"Шуваева Анастасия",2001]
[null,null,"Чиркова Олеся",2001]
[null,null,"Грибанова Александра",2001]
[]
[null,{"$f":"B24 + 1","v":4},"Астрахань",null,null,"Астрахань"]
[null,null,"Иванова Екатерина",2000,"КМС",null,"Густомясова Е."]
[null,null,"Шпенева Ольга",2000,"КМС",null,"Рогова О."]
[null,null,"Доронцева Ксения",2000,"КМС",null,"Костенко О."]
[null,null,"Королева Кристина",2000,"КМС"]
[null,null,"Адаменкова Маргарита",2000,"КМС"]
[null,null,"Дюкова Екатерина",2000,"КМС"]
[null,{"$f":"B31 + 1","v":5},"Ярославль",null,null,"Ярославль"]
[null,null,"Задворнева Виктория",2000,"КМС"]
[null,null,"Бурлако Анна",2000,"КМС"]
[null,null,"Климова Полина",2001,"КМС"]
[null,null,"Воробьева Анастасия",2000,"КМС"]
[null,null,"Лифенко Софья",2000,"КМС"]
[]
[null,{"$f":"B38 + 1","v":6},"Самара",null,null,"Самара"]
[null,null,"Лавочкина Анастасия",1999,"КМС",null,"Емелина Н."]
[null,null,"Гурьянова Арина",1999,"КМС",null,"Дербина И."]
[null,null,"Игнатюк Ангелина",1999,"КМС"]
[null,null,"Виселесова Анастасия",1999,"КМС"]
[null,null,"Виселесова Елизавета",1999,"КМС"]
[]
[null,{"$f":"B45 + 1","v":7},"Сборная России"]

{"sheet":"Вид 1","index":2,"n_rows":23,"n_cols":13,"rows_kept":23,"cut":false,"hidden":false,"merged":[[17,11,18,11],[17,12,18,12],[19,11,20,11],[19,12,20,12],[21,11,22,11],[21,12,22,12],[21,1,22,1],[21,2,22,2],[9,11,10,11],[9,12,10,12],[11,11,12,11],[11,12,12,12],[13,11,14,11],[13,12,14,12],[15,11,16,11],[15,12,16,12],[15,1,16,1],[15,2,16,2],[17,1,18,1],[17,2,18,2],[19,1,20,1],[19,2,20,2],[9,1,10,1],[9,2,10,2],[11,1,12,1],[11,2,12,2],[13,1,14,1],[13,2,14,2]]}
[null,null,null,2,9,13]
[]
[]
[]
[]
[]
[]
[]
[null,"№","Команда/Гимнастка",null,1,2,3,4,5,"Оценка","Сбавка","Сумма","МЕСТО"]
[null,{"$f":"Data!$B$24","v":3},{"$f":"Data!$C$24","v":"Рязань"},"D",null,null,null,null,null,{"$f":"(SUM(E10:H10)-(MIN(E10:H10)+MAX(E10:H10)))/2","v":0},null,13.867000000000001,{"$f":"RANK(L10,$L$10:$L$23,0)","v":5}]
[null,null,null,"E",null,null,null,null,null,{"$f":"(SUM(E11:I11)-(MIN(E11:I11)+MAX(E11:I11)))/3","v":0}]
[null,{"$f":"Data!$B$31","v":4},{"$f":"Data!$C$31","v":"Астрахань"},"D",null,null,null,null,null,{"$f":"(SUM(E12:H12)-(MIN(E12:H12)+MAX(E12:H12)))/2","v":0},null,14.933,{"$f":"RANK(L12,$L$10:$L$23,0)","v":1}]
[null,null,null,"E",null,null,null,null,null,{"$f":"(SUM(E13:I13)-(MIN(E13:I13)+MAX(E13:I13)))/3","v":0}]
[null,{"$f":"Data!$B$17","v":2},{"$f":"Data!$C$17","v":"Иваново \"Ламбада\""},"D",null,null,null,null,null,{"$f":"(SUM(E14:H14)-(MIN(E14:H14)+MAX(E14:H14)))/2","v":0},null,13.983000000000001,{"$f":"RANK(L14,$L$10:$L$23,0)","v":3}]
[null,null,null,"E",null,null,null,null,null,{"$f":"(SUM(E15:I15)-(MIN(E15:I15)+MAX(E15:I15)))/3","v":0}]
[null,{"$f":"Data!$B$45","v":6},{"$f":"Data!$C$45","v":"Самара"},"D",null,null,null,null,null,{"$f":"(SUM(E16:H16)-(MIN(E16:H16)+MAX(E16:H16)))/2","v":0},null,14.35,{"$f":"RANK(L16,$L$10:$L$23,0)","v":2}]
[null,null,null,"E",null,null,null,null,null,{"$f":"(SUM(E17:I17)-(MIN(E17:I17)+MAX(E17:I17)))/3","v":0}]
[null,{"$f":"Data!$B$10","v":1},{"$f":"Data!$C$10","v":0},"D",null,null,null,null,null,{"$f":"(SUM(E18:H18)-(MIN(E18:H18)+MAX(E18:H18)))/2","v":0},null,{"$f":"SUM(J18:J19)-SUM(K18:K19)","v":0},{"$f":"RANK(L18,$L$10:$L$23,0)","v":6}]
[null,null,null,"E",null,null,null,null,null,{"$f":"(SUM(E19:I19)-(MIN(E19:I19)+MAX(E19:I19)))/3","v":0}]
[null,{"$f":"Data!$B$38","v":5},{"$f":"Data!$C$38","v":"Ярославль"},"D",null,null,null,null,null,{"$f":"(SUM(E20:H20)-(MIN(E20:H20)+MAX(E20:H20)))/2","v":0},null,13.967000000000001,{"$f":"RANK(L20,$L$10:$L$23,0)","v":4}]
[null,null,null,"E",null,null,null,null,null,{"$f":"(SUM(E21:I21)-(MIN(E21:I21)+MAX(E21:I21)))/3","v":0}]
[null,{"$f":"Data!$B$52","v":7},{"$f":"Data!$C$52","v":"Сборная России"},"D",null,null,null,null,null,{"$f":"(SUM(E22:H22)-(MIN(E22:H22)+MAX(E22:H22)))/2","v":0},null,{"$f":"SUM(J22:J23)-SUM(K22:K23)","v":0},{"$f":"RANK(L22,$L$10:$L$23,0)","v":6}]
[null,null,null,"E",null,null,null,null,null,{"$f":"(SUM(E23:I23)-(MIN(E23:I23)+MAX(E23:I23)))/3","v":0}]

{"sheet":"Вид 2","index":3,"n_rows":23,"n_cols":13,"rows_kept":23,"cut":false,"hidden":false,"merged":[[9,1,10,1],[9,2,10,2],[11,1,12,1],[11,2,12,2],[13,1,14,1],[13,2,14,2],[21,1,22,1],[21,2,22,2],[9,11,10,11],[9,12,10,12],[11,11,12,11],[11,12,12,12],[13,11,14,11],[13,12,14,12],[15,11,16,11],[15,12,16,12],[15,1,16,1],[15,2,16,2],[17,1,18,1],[17,2,18,2],[19,1,20,1],[19,2,20,2],[17,11,18,11],[17,12,18,12],[19,11,20,11],[19,12,20,12],[21,11,22,11],[21,12,22,12]]}
[null,null,null,2,9,13]
[]
[]
[]
[]
[]
[]
[]
[null,"№","Команда/Гимнастка",null,1,2,3,4,5,"Оценка","Сбавка","Сумма","МЕСТО"]
[null,{"$f":"Data!$B$24","v":3},{"$f":"Data!$C$24","v":"Рязань"},"D",null,null,null,null,null,{"$f":"(SUM(E10:H10)-(MIN(E10:H10)+MAX(E10:H10)))/2","v":0},null,13.715999999999999,{"$f":"RANK(L10,$L$10:$L$23,0)","v":2}]
[null,null,null,"E",null,null,null,null,null,{"$f":"(SUM(E11:I11)-(MIN(E11:I11)+MAX(E11:I11)))/3","v":0}]
[null,{"$f":"Data!$B$31","v":4},{"$f":"Data!$C$31","v":"Астрахань"},"D",null,null,null,null,null,{"$f":"(SUM(E12:H12)-(MIN(E12:H12)+MAX(E12:H12)))/2","v":0},null,13.667,{"$f":"RANK(L12,$L$10:$L$23,0)","v":3}]
[null,null,null,"E",null,null,null,null,null,{"$f":"(SUM(E13:I13)-(MIN(E13:I13)+MAX(E13:I13)))/3","v":0}]
[null,{"$f":"Data!$B$17","v":2},{"$f":"Data!$C$17","v":"Иваново \"Ламбада\""},"D",null,null,null,null,null,{"$f":"(SUM(E14:H14)-(MIN(E14:H14)+MAX(E14:H14)))/2","v":0},null,14.25,{"$f":"RANK(L14,$L$10:$L$23,0)","v":1}]
[null,null,null,"E",null,null,null,null,null,{"$f":"(SUM(E15:I15)-(MIN(E15:I15)+MAX(E15:I15)))/3","v":0}]
[null,{"$f":"Data!$B$45","v":6},{"$f":"Data!$C$45","v":"Самара"},"D",null,null,null,null,null,{"$f":"(SUM(E16:H16)-(MIN(E16:H16)+MAX(E16:H16)))/2","v":0},null,13.483000000000001,{"$f":"RANK(L16,$L$10:$L$23,0)","v":4}]
[null,null,null,"E",null,null,null,null,null,{"$f":"(SUM(E17:I17)-(MIN(E17:I17)+MAX(E17:I17)))/3","v":0}]
[null,{"$f":"Data!$B$10","v":1},{"$f":"Data!$C$10","v":0},"D",null,null,null,null,null,{"$f":"(SUM(E18:H18)-(MIN(E18:H18)+MAX(E18:H18)))/2","v":0},null,{"$f":"SUM(J18:J19)-SUM(K18:K19)","v":0},{"$f":"RANK(L18,$L$10:$L$23,0)","v":6}]
[null,null,null,"E",null,null,null,null,null,{"$f":"(SUM(E19:I19)-(MIN(E19:I19)+MAX(E19:I19)))/3","v":0}]
[null,{"$f":"Data!$B$38","v":5},{"$f":"Data!$C$38","v":"Ярославль"},"D",null,null,null,null,null,{"$f":"(SUM(E20:H20)-(MIN(E20:H20)+MAX(E20:H20)))/2","v":0},null,12.882999999999999,{"$f":"RANK(L20,$L$10:$L$23,0)","v":5}]
[null,null,null,"E",null,null,null,null,null,{"$f":"(SUM(E21:I21)-(MIN(E21:I21)+MAX(E21:I21)))/3","v":0}]
[null,{"$f":"Data!$B$52","v":7},{"$f":"Data!$C$52","v":"Сборная России"},"D",null,null,null,null,null,{"$f":"(SUM(E22:H22)-(MIN(E22:H22)+MAX(E22:H22)))/2","v":0},null,{"$f":"SUM(J22:J23)-SUM(K22:K23)","v":0},{"$f":"RANK(L22,$L$10:$L$23,0)","v":6}]
[null,null,null,"E",null,null,null,null,null,{"$f":"(SUM(E23:I23)-(MIN(E23:I23)+MAX(E23:I23)))/3","v":0}]

{"sheet":"Protocol","index":4,"n_rows":49,"n_cols":10,"rows_kept":49,"cut":false,"hidden":false,"merged":[[7,3,7,5]]}
[]
[]
[]
[]
[]
[]
[]
[null,null,"Сводный протокол"]
[null,"№","Команда/Гимнастка","г.р.","Город","Тренер","Вид 1","Вид 2","Сумма","Место"]
[null,1,{"$f":"Data!$C$31","v":"Астрахань"},null,null,null,{"$f":"'Вид 1'!$L$12","v":14.933},{"$f":"'Вид 2'!$L$12","v":13.667},{"$f":"SUM(G10:H10)","v":28.6},{"$f":"RANK(I10,$I$10:$I$38,0)","v":1}]
[null,null,{"$f":"IF(ISBLANK(Data!$C$32), \"\",Data!$C$32)","v":"Иванова Екатерина"},{"$f":"IF(ISBLANK(Data!$D$32), \"\",Data!$D$32)","v":2000},{"$f":"IF(ISBLANK(Data!$F$32), \"\",Data!$F$32)","v":""},{"$f":"IF(ISBLANK(Data!$G$32), \"\",Data!$G$32)","v":"Густомясова Е."}]
[null,null,{"$f":"IF(ISBLANK(Data!$C$33), \"\",Data!$C$33)","v":"Шпенева Ольга"},{"$f":"IF(ISBLANK(Data!$D$33), \"\",Data!$D$33)","v":2000},{"$f":"IF(ISBLANK(Data!$F$33), \"\",Data!$F$33)","v":""},{"$f":"IF(ISBLANK(Data!$G$33), \"\",Data!$G$33)","v":"Рогова О."}]
[null,null,{"$f":"IF(ISBLANK(Data!$C$34), \"\",Data!$C$34)","v":"Доронцева Ксения"},{"$f":"IF(ISBLANK(Data!$D$34), \"\",Data!$D$34)","v":2000},{"$f":"IF(ISBLANK(Data!$F$34), \"\",Data!$F$34)","v":""},{"$f":"IF(ISBLANK(Data!$G$34), \"\",Data!$G$34)","v":"Костенко О."}]
[null,null,{"$f":"IF(ISBLANK(Data!$C$35), \"\",Data!$C$35)","v":"Королева Кристина"},{"$f":"IF(ISBLANK(Data!$D$35), \"\",Data!$D$35)","v":2000},{"$f":"IF(ISBLANK(Data!$F$35), \"\",Data!$F$35)","v":""},{"$f":"IF(ISBLANK(Data!$G$35), \"\",Data!$G$35)","v":""}]
[null,null,{"$f":"IF(ISBLANK(Data!$C$36), \"\",Data!$C$36)","v":"Адаменкова Маргарита"},{"$f":"IF(ISBLANK(Data!$D$36), \"\",Data!$D$36)","v":2000},{"$f":"IF(ISBLANK(Data!$F$36), \"\",Data!$F$36)","v":""},{"$f":"IF(ISBLANK(Data!$G$36), \"\",Data!$G$36)","v":""}]
[null,null,{"$f":"IF(ISBLANK(Data!$C$37), \"\",Data!$C$37)","v":"Дюкова Екатерина"},{"$f":"IF(ISBLANK(Data!$D$37), \"\",Data!$D$37)","v":2000},{"$f":"IF(ISBLANK(Data!$F$37), \"\",Data!$F$37)","v":""},{"$f":"IF(ISBLANK(Data!$G$37), \"\",Data!$G$37)","v":""}]
[null,{"$f":"Data!$B$17","v":2},{"$f":"Data!$C$17","v":"Иваново \"Ламбада\""},null,null,null,{"$f":"'Вид 1'!$L$14","v":13.983000000000001},{"$f":"'Вид 2'!$L$14","v":14.25},{"$f":"SUM(G17:H17)","v":28.233000000000001},{"$f":"RANK(I17,$I$10:$I$38,0)","v":2}]
[null,null,{"$f":"IF(ISBLANK(Data!$C$18), \"\",Data!$C$18)","v":"Шерышева Настя"},{"$f":"IF(ISBLANK(Data!$D$18), \"\",Data!$D$18)","v":2000},{"$f":"IF(ISBLANK(Data!$F$18), \"\",Data!$F$18)","v":""},{"$f":"IF(ISBLANK(Data!$G$18), \"\",Data!$G$18)","v":""}]
[null,null,{"$f":"IF(ISBLANK(Data!$C$19), \"\",Data!$C$19)","v":"Станскова Диана"},{"$f":"IF(ISBLANK(Data!$D$19), \"\",Data!$D$19)","v":2000},{"$f":"IF(ISBLANK(Data!$F$19), \"\",Data!$F$19)","v":""},{"$f":"IF(ISBLANK(Data!$G$19), \"\",Data!$G$19)","v":"Кислякова И."}]
[null,null,{"$f":"IF(ISBLANK(Data!$C$20), \"\",Data!$C$20)","v":"Степанова Арина"},{"$f":"IF(ISBLANK(Data!$D$20), \"\",Data!$D$20)","v":2000},{"$f":"IF(ISBLANK(Data!$F$20), \"\",Data!$F$20)","v":""},{"$f":"IF(ISBLANK(Data!$G$20), \"\",Data!$G$20)","v":"Харитонова А."}]
[null,null,{"$f":"IF(ISBLANK(Data!$C$21), \"\",Data!$C$21)","v":"Бабанова Анна"},{"$f":"IF(ISBLANK(Data!$D$21), \"\",Data!$D$21)","v":2000},{"$f":"IF(ISBLANK(Data!$F$21), \"\",Data!$F$21)","v":""},{"$f":"IF(ISBLANK(Data!$G$21), \"\",Data!$G$21)","v":""}]
[null,null,{"$f":"IF(ISBLANK(Data!$C$22), \"\",Data!$C$22)","v":"Снегирева Ксения"},{"$f":"IF(ISBLANK(Data!$D$22), \"\",Data!$D$22)","v":1999},{"$f":"IF(ISBLANK(Data!$F$22), \"\",Data!$F$22)","v":""},{"$f":"IF(ISBLANK(Data!$G$22), \"\",Data!$G$22)","v":""}]
[null,null,{"$f":"IF(ISBLANK(Data!$C$23), \"\",Data!$C$23)","v":"Скипор Ольга"},{"$f":"IF(ISBLANK(Data!$D$23), \"\",Data!$D$23)","v":1999},{"$f":"IF(ISBLANK(Data!$F$23), \"\",Data!$F$23)","v":""},{"$f":"IF(ISBLANK(Data!$G$23), \"\",Data!$G$23)","v":""}]
[null,3,{"$f":"Data!$C$45","v":"Самара"},null,null,null,{"$f":"'Вид 1'!$L$16","v":14.35},{"$f":"'Вид 2'!$L$16","v":13.483000000000001},{"$f":"SUM(G24:H24)","v":27.832999999999998},{"$f":"RANK(I24,$I$10:$I$38,0)","v":3}]
[null,null,{"$f":"IF(ISBLANK(Data!$C$46), \"\",Data!$C$46)","v":"Лавочкина Анастасия"},{"$f":"IF(ISBLANK(Data!$D$46), \"\",Data!$D$46)","v":1999},{"$f":"IF(ISBLANK(Data!$F$46), \"\",Data!$F$46)","v":""},{"$f":"IF(ISBLANK(Data!$G$46), \"\",Data!$G$46)","v":"Емелина Н."}]
[null,null,{"$f":"IF(ISBLANK(Data!$C$47), \"\",Data!$C$47)","v":"Гурьянова Арина"},{"$f":"IF(ISBLANK(Data!$D$47), \"\",Data!$D$47)","v":1999},{"$f":"IF(ISBLANK(Data!$F$47), \"\",Data!$F$47)","v":""},{"$f":"IF(ISBLANK(Data!$G$47), \"\",Data!$G$47)","v":"Дербина И."}]
[null,null,{"$f":"IF(ISBLANK(Data!$C$48), \"\",Data!$C$48)","v":"Игнатюк Ангелина"},{"$f":"IF(ISBLANK(Data!$D$48), \"\",Data!$D$48)","v":1999},{"$f":"IF(ISBLANK(Data!$F$48), \"\",Data!$F$48)","v":""},{"$f":"IF(ISBLANK(Data!$G$48), \"\",Data!$G$48)","v":""}]
[null,null,"Вилесова Анастасия",{"$f":"IF(ISBLANK(Data!$D$49), \"\",Data!$D$49)","v":1999},{"$f":"IF(ISBLANK(Data!$F$49), \"\",Data!$F$49)","v":""},{"$f":"IF(ISBLANK(Data!$G$49), \"\",Data!$G$49)","v":""}]
[null,null,"Вилесова Елизавета",{"$f":"IF(ISBLANK(Data!$D$50), \"\",Data!$D$50)","v":1999},{"$f":"IF(ISBLANK(Data!$F$50), \"\",Data!$F$50)","v":""},{"$f":"IF(ISBLANK(Data!$G$50), \"\",Data!$G$50)","v":""}]
[null,null,{"$f":"IF(ISBLANK(Data!$C$51), \"\",Data!$C$51)","v":""},{"$f":"IF(ISBLANK(Data!$D$51), \"\",Data!$D$51)","v":""},{"$f":"IF(ISBLANK(Data!$F$51), \"\",Data!$F$51)","v":""},{"$f":"IF(ISBLANK(Data!$G$51), \"\",Data!$G$51)","v":""}]
[null,4,{"$f":"Data!$C$24","v":"Рязань"},null,null,null,{"$f":"'Вид 1'!$L$10","v":13.867000000000001},{"$f":"'Вид 2'!$L$10","v":13.715999999999999},{"$f":"SUM(G31:H31)","v":27.582999999999998},{"$f":"RANK(I31,$I$10:$I$38,0)","v":4}]
[null,null,{"$f":"IF(ISBLANK(Data!$C$25), \"\",Data!$C$25)","v":"Мастерова Ксения"},{"$f":"IF(ISBLANK(Data!$D$25), \"\",Data!$D$25)","v":2001},{"$f":"IF(ISBLANK(Data!$F$25), \"\",Data!$F$25)","v":""},{"$f":"IF(ISBLANK(Data!$G$25), \"\",Data!$G$25)","v":"Коробкова М."}]
[null,null,{"$f":"IF(ISBLANK(Data!$C$26), \"\",Data!$C$26)","v":"Греченко Дана"},{"$f":"IF(ISBLANK(Data!$D$26), \"\",Data!$D$26)","v":2001},{"$f":"IF(ISBLANK(Data!$F$26), \"\",Data!$F$26)","v":""},{"$f":"IF(ISBLANK(Data!$G$26), \"\",Data!$G$26)","v":"Травкина Е."}]
[null,null,{"$f":"IF(ISBLANK(Data!$C$27), \"\",Data!$C$27)","v":"Шуваева Анастасия"},{"$f":"IF(ISBLANK(Data!$D$27), \"\",Data!$D$27)","v":2001},{"$f":"IF(ISBLANK(Data!$F$27), \"\",Data!$F$27)","v":""},{"$f":"IF(ISBLANK(Data!$G$27), \"\",Data!$G$27)","v":""}]
[null,null,{"$f":"IF(ISBLANK(Data!$C$28), \"\",Data!$C$28)","v":"Чиркова Олеся"},{"$f":"IF(ISBLANK(Data!$D$28), \"\",Data!$D$28)","v":2001},{"$f":"IF(ISBLANK(Data!$F$28), \"\",Data!$F$28)","v":""},{"$f":"IF(ISBLANK(Data!$G$28), \"\",Data!$G$28)","v":""}]
[null,null,{"$f":"IF(ISBLANK(Data!$C$29), \"\",Data!$C$29)","v":"Грибанова Александра"},{"$f":"IF(ISBLANK(Data!$D$29), \"\",Data!$D$29)","v":2001},{"$f":"IF(ISBLANK(Data!$F$29), \"\",Data!$F$29)","v":""},{"$f":"IF(ISBLANK(Data!$G$29), \"\",Data!$G$29)","v":""}]
[null,null,{"$f":"IF(ISBLANK(Data!$C$30), \"\",Data!$C$30)","v":""},{"$f":"IF(ISBLANK(Data!$D$30), \"\",Data!$D$30)","v":""},{"$f":"IF(ISBLANK(Data!$F$30), \"\",Data!$F$30)","v":""},{"$f":"IF(ISBLANK(Data!$G$30), \"\",Data!$G$30)","v":""}]
[null,{"$f":"Data!$B$38","v":5},{"$f":"Data!$C$38","v":"Ярославль"},null,null,null,{"$f":"'Вид 1'!$L$20","v":13.967000000000001},{"$f":"'Вид 2'!$L$20","v":12.882999999999999},{"$f":"SUM(G38:H38)","v":26.85},{"$f":"RANK(I38,$I$10:$I$38,0)","v":5}]
[null,null,{"$f":"IF(ISBLANK(Data!$C$39), \"\",Data!$C$39)","v":"Задворнева Виктория"},{"$f":"IF(ISBLANK(Data!$D$39), \"\",Data!$D$39)","v":2000},{"$f":"IF(ISBLANK(Data!$F$39), \"\",Data!$F$39)","v":""},{"$f":"IF(ISBLANK(Data!$G$39), \"\",Data!$G$39)","v":""}]
[null,null,{"$f":"IF(ISBLANK(Data!$C$40), \"\",Data!$C$40)","v":"Бурлако Анна"},{"$f":"IF(ISBLANK(Data!$D$40), \"\",Data!$D$40)","v":2000},{"$f":"IF(ISBLANK(Data!$F$40), \"\",Data!$F$40)","v":""},{"$f":"IF(ISBLANK(Data!$G$40), \"\",Data!$G$40)","v":""}]
[null,null,{"$f":"IF(ISBLANK(Data!$C$41), \"\",Data!$C$41)","v":"Климова Полина"},{"$f":"IF(ISBLANK(Data!$D$41), \"\",Data!$D$41)","v":2001},{"$f":"IF(ISBLANK(Data!$F$41), \"\",Data!$F$41)","v":""},{"$f":"IF(ISBLANK(Data!$G$41), \"\",Data!$G$41)","v":""}]
[null,null,{"$f":"IF(ISBLANK(Data!$C$42), \"\",Data!$C$42)","v":"Воробьева Анастасия"},{"$f":"IF(ISBLANK(Data!$D$42), \"\",Data!$D$42)","v":2000},{"$f":"IF(ISBLANK(Data!$F$42), \"\",Data!$F$42)","v":""},{"$f":"IF(ISBLANK(Data!$G$42), \"\",Data!$G$42)","v":""}]
[null,null,{"$f":"IF(ISBLANK(Data!$C$43), \"\",Data!$C$43)","v":"Лифенко Софья"},{"$f":"IF(ISBLANK(Data!$D$43), \"\",Data!$D$43)","v":2000},{"$f":"IF(ISBLANK(Data!$F$43), \"\",Data!$F$43)","v":""},{"$f":"IF(ISBLANK(Data!$G$43), \"\",Data!$G$43)","v":""}]
[null,null,{"$f":"IF(ISBLANK(Data!$C$44), \"\",Data!$C$44)","v":""},{"$f":"IF(ISBLANK(Data!$D$44), \"\",Data!$D$44)","v":""},{"$f":"IF(ISBLANK(Data!$F$44), \"\",Data!$F$44)","v":""},{"$f":"IF(ISBLANK(Data!$G$44), \"\",Data!$G$44)","v":""}]
[]
[]
[null,null,"Главный судья"]
[]
[null,null,"Главный секретарь"]